BEGIN:VCALENDAR
VERSION:2.0
METHOD:PUBLISH
PRODID:-//Telerik Inc.//Sitefinity CMS 13.1//EN
BEGIN:VTIMEZONE
TZID:Central Standard Time
BEGIN:STANDARD
DTSTART:20251102T020000
RRULE:FREQ=YEARLY;BYDAY=1SU;BYHOUR=2;BYMINUTE=0;BYMONTH=11
TZNAME:Central Standard Time
TZOFFSETFROM:-0500
TZOFFSETTO:-0600
END:STANDARD
BEGIN:DAYLIGHT
DTSTART:20250301T020000
RRULE:FREQ=YEARLY;BYDAY=2SU;BYHOUR=2;BYMINUTE=0;BYMONTH=3
TZNAME:Central Daylight Time
TZOFFSETFROM:-0600
TZOFFSETTO:-0500
END:DAYLIGHT
END:VTIMEZONE
BEGIN:VEVENT
DESCRIPTION:The meeting agenda is coming soon.
DTEND:20260521T180000Z
DTSTAMP:20260426T032550Z
DTSTART:20260521T170000Z
LOCATION:Arkansas\,US\,Little Rock\,1100 North Street
SEQUENCE:0
SUMMARY:Capitol Zoning Disctrict Commission Meeting
UID:RFCALITEM639127707505951339
X-ALT-DESC;FMTTYPE=text/html:The meeting agenda is coming soon.
END:VEVENT
END:VCALENDAR
