BEGIN:VCALENDAR
VERSION:2.0
METHOD:PUBLISH
PRODID:-//Telerik Inc.//Sitefinity CMS 13.1//EN
BEGIN:VTIMEZONE
TZID:Central Standard Time
BEGIN:STANDARD
DTSTART:20251102T020000
RRULE:FREQ=YEARLY;BYDAY=1SU;BYHOUR=2;BYMINUTE=0;BYMONTH=11
TZNAME:Central Standard Time
TZOFFSETFROM:-0500
TZOFFSETTO:-0600
END:STANDARD
BEGIN:DAYLIGHT
DTSTART:20250301T020000
RRULE:FREQ=YEARLY;BYDAY=2SU;BYHOUR=2;BYMINUTE=0;BYMONTH=3
TZNAME:Central Daylight Time
TZOFFSETFROM:-0600
TZOFFSETTO:-0500
END:DAYLIGHT
END:VTIMEZONE
BEGIN:VEVENT
DESCRIPTION:Book:&nbsp\;The Power of Her Pen: Ida B. Wells &ndash\; Lesa Cl
 ine‑Ransome\n\nTheme:&nbsp\;&ldquo\;Delta Storytellers &amp\; Journalists&
 rdquo\;\n\nGames/ Art/ Activity:\nQuick‑print zine workshop\nPress‑badge p
 hoto booth\nHeadline‑scramble relay
DTEND:20260815T190000Z
DTSTAMP:20260421T044543Z
DTSTART:20260815T180000Z
LOCATION:Arkansas\,US\,Helena-West Helena\,95 Missouri Street
SEQUENCE:0
SUMMARY:Depot Discovery Day 2026 - August
UID:RFCALITEM639123435433168094
X-ALT-DESC;FMTTYPE=text/html:<p><strong>Book:&nbsp\;</strong>The Power of H
 er Pen: Ida B. Wells &ndash\; Lesa Cline‑Ransome<br />\n<strong><br />\nTh
 eme:&nbsp\;</strong>&ldquo\;Delta Storytellers &amp\; Journalists&rdquo\;<
 br />\n<strong><br />\nGames/ Art/ Activity:<br />\n</strong>Quick‑print z
 ine workshop<br />\nPress‑badge photo booth<br />\nHeadline‑scramble relay
 </p>
END:VEVENT
END:VCALENDAR
